BEGIN:VCALENDAR
VERSION:2.0
PRODID:-//ChamberMaster//Event Calendar 2.0//EN
METHOD:PUBLISH
X-PUBLISHED-TTL:P3D
REFRESH-INTERVAL:P3D
CALSCALE:GREGORIAN
BEGIN:VEVENT
DTSTART:20171016T133000Z
DTEND:20171016T203000Z
X-MICROSOFT-CDO-ALLDAYEVENT:FALSE
SUMMARY:2017 Arkansas Maker Summit - hosted by Scott Family Amazeum and The Innovation Hub of North Little Rock
DESCRIPTION:The Scott Family Amazeum\, in partnership with the Innovation Hub of North Little Rock\, the Arkansas Discovery Network\, and the Greater Bentonville Area Chamber of Commerce\, is excited to present the second statewide Maker Summit in conjunction with the Northwest Arkansas Technology Summit on Monday\, October 16\, 2017.\n\nTickets for the day cost $49 and include light breakfast and lunch. Arkansas Department of Education approved professional development credit is available to educators.\n\nSchedule for the day:\n\nRefreshments and networking 8:30 to 9:00 am\n\nAmazing making breakouts 9:00 am to 3:30 pm\nSpeakers and panelists are being announced in the coming days.\n\nPresenters already announced:\n\nRhonda Childress\, IBM\n\nSam Dean\, Scott Family Amazeum\n\nJoel Gordon\, Arkansas Innovation Hub\n\nLisa Brahms\, Children's Museum of Pittsburgh
X-ALT-DESC;FMTTYPE=text/html:<p>The Scott Family Amazeum\, in partnership with the Innovation Hub of North Little Rock\, the Arkansas Discovery Network\, and the Greater Bentonville Area Chamber of Commerce\, is excited to present the second statewide Maker Summit in conjunction with the Northwest Arkansas Technology Summit on Monday\, October 16\, 2017.</p>\n\n<p>Tickets for the day cost $49 and include light breakfast and lunch. Arkansas Department of Education approved professional development credit is available to educators.</p>\n\n<p><u><strong>Schedule for the day:</strong></u></p>\n\n<p>Refreshments and networking 8:30 to 9:00 am</p>\n\n<p>Amazing making breakouts 9:00 am to 3:30 pm</p>\n<strong>Speakers and panelists are being announced in the coming days.</strong>\n\n<p>Presenters already announced:</p>\n\n<p>Rhonda Childress\, IBM</p>\n\n<p>Sam Dean\, Scott Family Amazeum</p>\n\n<p>Joel Gordon\, Arkansas Innovation Hub</p>\n\n<p>Lisa Brahms\, Children&rsquo\;s Museum of Pittsburgh</p>\n\n<p>&nbsp\;</p>\n
LOCATION:John Q. Hammons Convention Center 3303 S Pinnacle Hills Pkwy\, Rogers\, AR
UID:e.2048.4774
SEQUENCE:3
DTSTAMP:20260421T201220Z
URL:https://business.greaterbentonville.com/events/details/2017-arkansas-maker-summit-hosted-by-scott-family-amazeum-and-the-innovation-hub-of-north-little-rock-4774
END:VEVENT

END:VCALENDAR
