BEGIN:VCALENDAR
VERSION:2.0
PRODID:-//ChamberMaster//Event Calendar 2.0//EN
METHOD:PUBLISH
X-PUBLISHED-TTL:P3D
REFRESH-INTERVAL:P3D
CALSCALE:GREGORIAN
BEGIN:VEVENT
DTSTART:20210520T220000Z
DTEND:20210520T233000Z
X-MICROSOFT-CDO-ALLDAYEVENT:FALSE
SUMMARY:2021 Benton County Business After Hours
DESCRIPTION:Join us for Benton County Business After Hours/Off the Clock on May 20th\, 2021. This event is combined with the Siloam Springs Chamber of Commerce and the Rogers/Lowell Chamber of Commerce. You won't want to miss this! This informal event will allow you to meet with members of the business community and network in a casual atmosphere. You can count on making valuable connections\, delicious food\, drinks\, and door prizes. Make sure to bring your business cards!\n\nCapacity will be limited at this event due to continuing state guidelines around Covid-19 and large gatherings so be sure to register ahead of time. Once the event is full you will no longer be able to register. \n\n\n\nIf you are interested in being a co-sponsor or providing a door prize for this event\, please contact Travis Stephens at tstephens@greaterbentonville.com or call 479-273-2841. \n\n\n\nCLICK HERE TO REGISER https://www.rogerslowell.com/events/2021/05/20/business-connect-events/benton-county-business-after-hours/
X-ALT-DESC;FMTTYPE=text/html:<p style="margin: 0px 0px 13.33px\;"><span style="font-size:14px\;"><span style="font-family:arial\;">Join us for Benton County Business After Hours/Off the Clock on May 20th\, 2021. This event is combined with the Siloam Springs Chamber of Commerce and the Rogers/Lowell Chamber of Commerce. You won&#39\;t want to miss this! This informal event will allow you to meet with members of the business community and network in a casual atmosphere. You can count on making valuable connections\, delicious food\, drinks\, and door prizes. Make sure to bring your business cards!</span></span></p>\n\n<p style="margin: 0px 0px 13.33px\;"><span style="font-size:14px\;"><span style="font-family:arial\;">Capacity will be limited at this event due to continuing state guidelines around Covid-19 and large gatherings so be sure to register ahead of time. Once the event is full you will no longer be able to register.&nbsp\;<br />\n<br />\nIf you are interested in being a co-sponsor or providing a door prize for this event\, please contact Travis Stephens at tstephens@greaterbentonville.com or call 479-273-2841.&nbsp\;<br />\n<br />\n<strong>CLICK HERE TO REGISER&nbsp\;</strong></span></span><a href="https://www.rogerslowell.com/events/2021/05/20/business-connect-events/benton-county-business-after-hours/">https://www.rogerslowell.com/events/2021/05/20/business-connect-events/benton-county-business-after-hours/</a><br />\n&nbsp\;</p>\n
LOCATION:Thursday\, May 20\, 2021\, from 5 p.m. to 6:30 p.m. Embassy Suites Northwest Arkansas 3303 S Pinnacle Hills Pkwy Rogers\, AR 72758
UID:e.2048.7106
SEQUENCE:3
DTSTAMP:20260419T174447Z
URL:https://business.greaterbentonville.com/events/details/2021-benton-county-business-after-hours-7106
END:VEVENT

END:VCALENDAR
