BEGIN:VCALENDAR
VERSION:2.0
PRODID:-//ChamberMaster//Event Calendar 2.0//EN
METHOD:PUBLISH
X-PUBLISHED-TTL:P3D
REFRESH-INTERVAL:P3D
CALSCALE:GREGORIAN
BEGIN:VEVENT
DTSTART:20231102T163000Z
DTEND:20231102T180000Z
X-MICROSOFT-CDO-ALLDAYEVENT:FALSE
SUMMARY:2023 Build Bentonville Lunch "The Early Childhood Education Crisis" presented by First National Bank of NWA
DESCRIPTION:2023 Build Bentonville Lunch Series Finale\n\nConfronting the Early Childhood Education Crisis\n\nJoin us for a discussion about the early childhood education crisis. We'll explore its significance\, reasons for its critical state\, its impact on current and future work scenarios\, and potential solutions.  \n\n\n\nPanelist:\n\nDr. Nikki Edge\, UAMS\n\nJamie Ward\, Excel by Eight Foundation\n\nWendy Forrest\, Director\, Child Enrichment Services - Bentonville Schools\n\n\n\n\n\nBuild Bentonville Lunch - Quarterly Discussions on Community Topics\n\nDue to new technological advances\, a biking mecca in our backyard\, a hub for artists and makers\, and an economy that is flourishing\, our region has boundless opportunities for success. Build Bentonville is a quarterly lunch that shines a light on pertinent community topics\, new and improved initiatives\, economic updates\, and keeps Chamber members aware of what is on the horizon for our fast-growing community. This program is a fantastic way to keep abreast of what is happening in Northwest Arkansas\, specifically in the greater Bentonville area.
X-ALT-DESC;FMTTYPE=text/html:<p -webkit-text-stroke-width:="" font-size:="" font-style:="" font-variant:="" font-weight:="" letter-spacing:="" orphans:="" style="color: rgb(51\, 51\, 51)\; font-family: sans-serif\, Arial\, Verdana\, " text-align:="" text-decoration:="" text-indent:="" text-transform:="" trebuchet="" white-space:="" word-spacing:="">&nbsp\;</p>\n\n<p -webkit-text-stroke-width:="" font-size:="" font-style:="" font-variant:="" font-weight:="" letter-spacing:="" orphans:="" style="color: rgb(51\, 51\, 51)\; text-align: center\;" text-align:="" text-decoration:="" text-indent:="" text-transform:="" trebuchet="" white-space:="" word-spacing:=""><span style="font-size: 12px\;"><span style="font-size:14px\;"><strong>2023 Build Bentonville Lunch Series Finale<br />\nConfronting the Early Childhood Education Crisis</strong></span></span></p>\n\n<p -webkit-text-stroke-width:="" font-size:="" font-style:="" font-variant:="" font-weight:="" letter-spacing:="" orphans:="" style="color: rgb(51\, 51\, 51)\; font-family: sans-serif\, Arial\, Verdana\, " text-align:="" text-decoration:="" text-indent:="" text-transform:="" trebuchet="" white-space:="" word-spacing:=""><span style="font-size: 12px\;"><span style="font-size:14px\;">Join us for a discussion about&nbsp\;the early childhood education crisis. We&#39\;ll explore its significance\, reasons for its critical&nbsp\;state\, its impact on current and future work scenarios\, and potential solutions. &nbsp\;<br />\n<br />\n<strong>Panelist:<br />\nDr. Nikki Edge\, UAMS<br />\nJamie Ward\, Excel by Eight Foundation<br />\nWendy Forrest\, Director\, Child Enrichment Services - Bentonville Schools<br />\n<br />\n<br />\nBuild Bentonville Lunch - Quarterly Discussions on Community Topics</strong></span></span><br />\nDue to new technological advances\, a biking mecca in our backyard\, a hub for artists and makers\, and an economy that is flourishing\, our region has boundless opportunities for success. Build Bentonville is a quarterly lunch that shines a light on pertinent community topics\, new and improved initiatives\, economic updates\, and keeps Chamber members aware of what is on the horizon for our fast-growing community. This program is a fantastic way to keep abreast of what is happening in Northwest Arkansas\, specifically in the greater Bentonville area.<br />\n<br />\n<br />\n<br />\n&nbsp\;</p>\n
LOCATION:21c Museum Hotel 200 NE A Street Bentonville
UID:e.2048.7814
SEQUENCE:3
DTSTAMP:20260425T103602Z
URL:https://business.greaterbentonville.com/events/details/2023-build-bentonville-lunch-the-early-childhood-education-crisis-presented-by-first-national-bank-of-nwa-7814
END:VEVENT

END:VCALENDAR
