BEGIN:VCALENDAR
VERSION:2.0
PRODID:-//ChamberMaster//Event Calendar 2.0//EN
METHOD:PUBLISH
X-PUBLISHED-TTL:P3D
REFRESH-INTERVAL:P3D
CALSCALE:GREGORIAN
BEGIN:VEVENT
DTSTART:20200229T160000Z
DTEND:20200229T200000Z
X-MICROSOFT-CDO-ALLDAYEVENT:FALSE
SUMMARY:2nd Annual Bridal Show at The Peel Mansion & Heritage Gardens
DESCRIPTION:Join us for our 2nd annual Bridal Show and imagine your dream wedding here at The Peel Mansion & Heritage Gardens!\n\n\n\nEvent includes complimentary drinks and appetizers\n\nTickets $10
X-ALT-DESC;FMTTYPE=text/html:<span style="background-color:rgb(255\, 255\, 255)\; color:rgb(29\, 33\, 41)\; font-family:helvetica\,arial\,sans-serif\; font-size:14px">Join us for our 2nd annual Bridal Show and imagine your dream wedding here at The Peel Mansion &amp\; Heritage Gardens!</span><br />\n<br />\n<span style="background-color:rgb(255\, 255\, 255)\; color:rgb(29\, 33\, 41)\; font-family:helvetica\,arial\,sans-serif\; font-size:14px">Event includes complimentary drinks and appetizers</span><br />\n<span style="background-color:rgb(255\, 255\, 255)\; color:rgb(29\, 33\, 41)\; font-family:helvetica\,arial\,sans-serif\; font-size:14px">Tickets $10 </span>
LOCATION:The Peel Mansion & Heritage Gardens 400 S Walton Boulevard Bentonville\, AR 72712
UID:e.2048.6903
SEQUENCE:3
DTSTAMP:20260425T200900Z
URL:https://business.greaterbentonville.com/events/details/2nd-annual-bridal-show-at-the-peel-mansion-heritage-gardens-6903
END:VEVENT

END:VCALENDAR
