BEGIN:VCALENDAR
VERSION:2.0
PRODID:-//ChamberMaster//Event Calendar 2.0//EN
METHOD:PUBLISH
X-PUBLISHED-TTL:P3D
REFRESH-INTERVAL:P3D
CALSCALE:GREGORIAN
BEGIN:VEVENT
DTSTART:20230710T130000Z
DTEND:20230714T170000Z
X-MICROSOFT-CDO-ALLDAYEVENT:FALSE
SUMMARY:Archery Camp
DESCRIPTION:Aiming to make your summer break an unforgettable one? Hit a bull's eye by enrolling your teen in Explore Archery Summer Camp at The Quiver! Campers will gain individualized archery experience alongside our certified instructors. Each day will include fun new activities and awards! Topics covered: Range safety\, shooting form\, equipment knowledge\, shot execution\, and scoring. See below for a detailed breakdown of each day. Sign up for camp as a session or pick the days that work best for you!
X-ALT-DESC;FMTTYPE=text/html:Aiming to make your summer break an unforgettable one? Hit a bull&#39\;s eye by enrolling your teen in Explore Archery Summer Camp at The Quiver! Campers will gain individualized archery experience alongside our certified instructors. Each day will include fun new activities and awards! Topics covered: Range safety\, shooting form\, equipment knowledge\, shot execution\, and scoring. See below for a detailed breakdown of each day. Sign up for camp as a session or pick the days that work best for you!
LOCATION:The Quiver Archery Range | 1701 SW F St\, Bentonville\, AR\, 72712
UID:e.2048.7983
SEQUENCE:3
DTSTAMP:20260422T181947Z
URL:https://business.greaterbentonville.com/events/details/archery-camp-7983
END:VEVENT

END:VCALENDAR
