BEGIN:VCALENDAR
VERSION:2.0
PRODID:-//ChamberMaster//Event Calendar 2.0//EN
METHOD:PUBLISH
X-PUBLISHED-TTL:P3D
REFRESH-INTERVAL:P3D
CALSCALE:GREGORIAN
BEGIN:VEVENT
DTSTART:20181103T000000Z
DTEND:20181103T220000Z
X-MICROSOFT-CDO-ALLDAYEVENT:FALSE
SUMMARY:Bentonville Dia De Los Muertos Festival
DESCRIPTION:Prepare yourself for the first annual Bentonville Dia De Los Muertos Festival: a family-friendly event commemorating the exuberant Mexican holiday which celebrates life and honors memories. Join us at the Museum of Native American History and Peel Mansion Museum and Heritage Gardens November 2 and 3 as we celebrate life and honor memories. The Peel Mansion Museum and Heritage Gardens 400 S Walton Blvd Bentonville\, AR 72712 479-254-3870 The Museum of Native American History 202 SW O Street Bentonville\, AR 72712 479-273-2456
X-ALT-DESC;FMTTYPE=text/html:Prepare yourself for the first annual Bentonville Dia De Los Muertos Festival: a family-friendly event commemorating the exuberant Mexican holiday which celebrates life and honors memories. Join us at the Museum of Native American History and Peel Mansion Museum and Heritage Gardens November 2 and 3 as we celebrate life and honor memories. The Peel Mansion Museum and Heritage Gardens 400 S Walton Blvd Bentonville\, AR 72712 479-254-3870 The Museum of Native American History 202 SW O Street Bentonville\, AR 72712 479-273-2456
LOCATION:The Peel Mansion Museum and Heritage Gardens 400 S Walton Blvd Bentonville\, AR 72712 479-254-3870 The Museum of Native American History 202 SW O Street Bentonville\, AR 72712 479-273-2456
UID:e.2048.6263
SEQUENCE:3
DTSTAMP:20260420T112212Z
URL:https://business.greaterbentonville.com/events/details/bentonville-dia-de-los-muertos-festival-6263
END:VEVENT

END:VCALENDAR
