BEGIN:VCALENDAR
VERSION:2.0
PRODID:-//ChamberMaster//Event Calendar 2.0//EN
METHOD:PUBLISH
X-PUBLISHED-TTL:P3D
REFRESH-INTERVAL:P3D
CALSCALE:GREGORIAN
BEGIN:VEVENT
DTSTART:20200920T180000Z
DTEND:20200920T200000Z
X-MICROSOFT-CDO-ALLDAYEVENT:FALSE
SUMMARY:Fundamental Biking Skills Clinic with Women of OZ
DESCRIPTION:Fundamental Mountain Biking Skills Clinic for Women at Lincoln Jr High. Clinic by Women of Oz.\n\n\n\nThis event is sponsored by Mojo Cycling!\n\n\n\nEach participant will receive a JUNK headband and a bag. ($20 value!)\n\nSnacks will be provided by Clif Bar and Mojo will be on site to help with tire pressure and bike checks pre-trail ride!
X-ALT-DESC;FMTTYPE=text/html:Fundamental Mountain Biking Skills Clinic for Women at Lincoln Jr High. Clinic by Women of Oz.<br />\n<br />\nThis event is sponsored by Mojo Cycling!<br />\n<br />\nEach participant will receive a JUNK headband and a bag. ($20 value!)<br />\nSnacks will be provided by Clif Bar and Mojo will be on site to help with tire pressure and bike checks pre-trail ride!&nbsp\;<br />\n&nbsp\;
LOCATION:1206 NW Leopard Ln\, Bentonville\, AR 72712
UID:e.2048.7070
SEQUENCE:3
DTSTAMP:20260424T141651Z
URL:https://business.greaterbentonville.com/events/details/fundamental-biking-skills-clinic-with-women-of-oz-7070
END:VEVENT

END:VCALENDAR
