BEGIN:VCALENDAR
VERSION:2.0
PRODID:-//ChamberMaster//Event Calendar 2.0//EN
METHOD:PUBLISH
X-PUBLISHED-TTL:P3D
REFRESH-INTERVAL:P3D
CALSCALE:GREGORIAN
BEGIN:VEVENT
DTSTART:20180121T003000Z
DTEND:20180121T023000Z
X-MICROSOFT-CDO-ALLDAYEVENT:FALSE
SUMMARY:Native Conversations: Water is Where We All Begin
DESCRIPTION:MONAH is honored to begin its 2018 Native Conversations series in partnership with the House of Songs as they welcome Torres to both the stage and the podium. Gerald Torres has established himself as a leading figure and professor in his fields of race theory\, federal Indian law\, and environmental law. A dynamic and multi-talented speaker and blues harmonica player\, Torres will punctuate his talk on the significance of water and Native resource management with performance\, backed by local band Lost John. Currently the Jane M.G. Foster Professor at Cornell Law School\, Professor Torres is also Board Chair of Earth Day and has served as deputy assistant attorney general for the Environment and Natural Resources Division of the U.S. Department of Justice and as counsel to then U.S. Attorney General Janet Reno. FREE ADMISSION | OPEN TO ALL
X-ALT-DESC;FMTTYPE=text/html:MONAH is honored to begin its 2018 Native Conversations series in partnership with the House of Songs as they welcome Torres to both the stage and the podium. Gerald Torres has established himself as a leading figure and professor in his fields of race theory\, federal Indian law\, and environmental law. A dynamic and multi-talented speaker and blues harmonica player\, Torres will punctuate his talk on the significance of water and Native resource management with performance\, backed by local band Lost John. Currently the Jane M.G. Foster Professor at Cornell Law School\, Professor Torres is also Board Chair of Earth Day and has served as deputy assistant attorney general for the Environment and Natural Resources Division of the U.S. Department of Justice and as counsel to then U.S. Attorney General Janet Reno. FREE ADMISSION | OPEN TO ALL
LOCATION:Museum of Native American History 202 SW O Street Bentonville\, AR 72712
UID:e.2048.5878
SEQUENCE:3
DTSTAMP:20260424T220910Z
URL:https://business.greaterbentonville.com/events/details/native-conversations-water-is-where-we-all-begin-5878
END:VEVENT

END:VCALENDAR
