BEGIN:VCALENDAR
VERSION:2.0
PRODID:-//ChamberMaster//Event Calendar 2.0//EN
METHOD:PUBLISH
X-PUBLISHED-TTL:P3D
REFRESH-INTERVAL:P3D
CALSCALE:GREGORIAN
BEGIN:VEVENT
DTSTART:20220719T163000Z
DTEND:20220719T170000Z
X-MICROSOFT-CDO-ALLDAYEVENT:FALSE
SUMMARY:Ribbon Cutting - Surfco Restoration and Construction
DESCRIPTION:This is a ribbon cutting for Surfco Restoration and Construction.
X-ALT-DESC;FMTTYPE=text/html:This is a ribbon cutting for&nbsp\;Surfco Restoration and Construction.
LOCATION:4500 S School Ave Suite C Fayetteville\, AR
UID:e.2048.7557
SEQUENCE:3
DTSTAMP:20260422T193524Z
URL:https://business.greaterbentonville.com/events/details/ribbon-cutting-surfco-restoration-and-construction-7557
END:VEVENT

END:VCALENDAR
