BEGIN:VCALENDAR
VERSION:2.0
PRODID:-//ChamberMaster//Event Calendar 2.0//EN
METHOD:PUBLISH
X-PUBLISHED-TTL:P3D
REFRESH-INTERVAL:P3D
CALSCALE:GREGORIAN
BEGIN:VEVENT
DTSTART:20191208T200000Z
DTEND:20191208T220000Z
X-MICROSOFT-CDO-ALLDAYEVENT:FALSE
SUMMARY:The Nutcracker Ballet
DESCRIPTION:Now a regional holiday tradition\, the Northwest Arkansas Conservatory of Classical Ballet and NWA Ballet Theatre Artistic Director\, Ryan Jolicoeur- Nye reimagine the Tchaikovsky classic cast with 178 regional dance students\, adult character artists\, and the featured professional artists of NWA Ballet Theatre. Join The Conservatory for an enchanted evening with Clara as she receives her most treasured Christmas gift\, a Nutcracker doll. Follow along as he comes to life in her dream\, and saves her from the grip of the evil Rat King and Queen and their mice minions with the help of his infantry of toy soldiers. Continue with Clara and the Nutcracker prince as they journey through the wintry Snow Forest and into the kingdom of the Sugar Plum Fairy and her magical Land of Sweets.
X-ALT-DESC;FMTTYPE=text/html:Now a regional holiday tradition\, the Northwest Arkansas Conservatory of Classical Ballet and NWA Ballet Theatre Artistic Director\, Ryan Jolicoeur- Nye reimagine the Tchaikovsky classic cast with 178 regional dance students\, adult character artists\, and the featured professional artists of NWA Ballet Theatre. Join The Conservatory for an enchanted evening with Clara as she receives her most treasured Christmas gift\, a Nutcracker doll. Follow along as he comes to life in her dream\, and saves her from the grip of the evil Rat King and Queen and their mice minions with the help of his infantry of toy soldiers. Continue with Clara and the Nutcracker prince as they journey through the wintry Snow Forest and into the kingdom of the Sugar Plum Fairy and her magical Land of Sweets.
LOCATION:Arend Arts Center 1901 Southeast J Street Bentonville\, AR
UID:e.2048.6841
SEQUENCE:3
DTSTAMP:20260422T092923Z
URL:https://business.greaterbentonville.com/events/details/the-nutcracker-ballet-12-08-2019-6841
END:VEVENT

END:VCALENDAR
